BEGIN:VCALENDAR
VERSION:2.0
PRODID:-//Tukios.com/
BEGIN:VEVENT
UID:65d0030b-5d1a-461b-b50a-bba6fe64f419@obituaries.chapelhillmemorial.com
DTSTAMP:20260421T002840Z
DTSTART:20260613T170000Z
DTEND:20260613T180000Z
SUMMARY:Celebration of Life
DESCRIPTION:
URL:https://obituaries.chapelhillmemorial.com/obituaries/donald-kania
LOCATION:Indiana 120 IN-120  Middlebury IN 46540
GEO:41.7197279;-85.3619729
END:VEVENT
END:VCALENDAR