BEGIN:VCALENDAR
VERSION:2.0
PRODID:-//Tukios.com/
BEGIN:VEVENT
UID:47f8ac09-4773-4a92-a5c8-44ce49eefdb0@obituaries.chapelhillmemorial.com
DTSTAMP:20260424T225604Z
DTSTART:20260501T150000Z
DTEND:20260501T170000Z
SUMMARY:Visitation
DESCRIPTION:
URL:https://obituaries.chapelhillmemorial.com/obituaries/judy-oglesby
LOCATION: 10776 McKinley Hwy  Osceloa IN 46561
GEO:41.6879253;-86.0755794
END:VEVENT
END:VCALENDAR