BEGIN:VCALENDAR
VERSION:2.0
PRODID:-//Tukios.com/
BEGIN:VEVENT
UID:801c9d26-61df-4e6c-b2e6-43eafeb40d2b@obituaries.chapelhillmemorial.com
DTSTAMP:20260424T230142Z
DTSTART:20260501T170000Z
DTEND:20260501T180000Z
SUMMARY:Funeral Service
DESCRIPTION:
URL:https://obituaries.chapelhillmemorial.com/obituaries/judy-oglesby
LOCATION: 10776 McKinley Hwy  Osceloa IN 46561
GEO:41.6879253;-86.0755794
END:VEVENT
END:VCALENDAR