BEGIN:VCALENDAR
VERSION:2.0
PRODID:-//Tukios.com/
BEGIN:VEVENT
UID:accc04b3-655b-42ab-bdf6-2475c9b240ac@obituaries.chapelhillmemorial.com
DTSTAMP:20260424T230028Z
DTSTART:20260501
SUMMARY:Burial
DESCRIPTION:
URL:https://obituaries.chapelhillmemorial.com/obituaries/judy-oglesby
LOCATION: 10776 McKinley Hwy  Osceloa IN 46561
GEO:41.6879253;-86.0755794
END:VEVENT
END:VCALENDAR